BEGIN:VCALENDAR
VERSION:2.0
PRODID:-//Tukios.com/
BEGIN:VEVENT
UID:cc468e8a-154f-43c1-9b92-c1426297fcf0@www.trujillofunerals.com
DTSTAMP:20260423T023951Z
DTSTART:20260501T173000Z
DTEND:20260501T183000Z
SUMMARY:Celebration of Life
DESCRIPTION:
URL:https://www.trujillofunerals.com/obituaries/joan-garrett
LOCATION:Trujillo Family Funeral Home Chapel 110 Alvarado Dr SE  
	Albuquerque NM 87108
GEO:35.0764188;-106.5815529
END:VEVENT
END:VCALENDAR