BEGIN:VCALENDAR
VERSION:2.0
PRODID:-//Tukios.com/
BEGIN:VEVENT
UID:d968f54d-0ecd-49d3-b921-8b9196a5be60@www.trujillofunerals.com
DTSTAMP:20260423T024114Z
DTSTART:20260501T153000Z
DTEND:20260501T173000Z
SUMMARY:Viewing
DESCRIPTION:
URL:https://www.trujillofunerals.com/obituaries/joan-garrett
LOCATION:Trujillo Family Funeral Home Chapel 110 Alvarado Dr SE  
	Albuquerque NM 87108
GEO:35.0764188;-106.5815529
END:VEVENT
END:VCALENDAR