BEGIN:VCALENDAR
VERSION:2.0
PRODID:-//Tukios.com/
BEGIN:VEVENT
UID:e7399d6c-899a-4c25-847b-def643895f0c@www.trujillofunerals.com
DTSTAMP:20260423T020249Z
DTSTART:20260516T170000Z
DTEND:20260516T180000Z
SUMMARY:Celebration of Life
DESCRIPTION:
URL:https://www.trujillofunerals.com/obituaries/carl-jamison
LOCATION: 7241 Isleta Boulevard Southwest  Albuquerque NM 87105
GEO:34.9584721;-106.696102
END:VEVENT
END:VCALENDAR